BEGIN:VCALENDAR
VERSION:2.0
PRODID:-//eventon.com NONSGML v1.0//EN
BEGIN:VEVENT
UID:69e500ae7fef6
DTSTAMP:20260419T091958
DTSTART:20230707T230000Z
DTEND:20230708T030000Z
TZID:America/Los_Angeles
LOCATION:Gunzaque Vilage 1515 East 105th Street
SUMMARY:Watts Outreach
DESCRIPTION: Join us on Friday\,  July 7th\,  from 5:00 to 8:00 pm\,  as we go to work alongside Hope Central Church in Watts. Meet in the Church parking lot at 4:00 pm to carpool\,  or you can make your own way down by following the address on the website.  
URL:https://morningstarcc.org/events/watts-outreach/
END:VEVENT
END:VCALENDAR