BEGIN:VCALENDAR
VERSION:2.0
PRODID:-//eventon.com NONSGML v1.0//EN
BEGIN:VEVENT
UID:69e5dc04799c5
DTSTAMP:20260420T005548
DTSTART:20220910T010000Z
DTEND:20220910T023000Z
TZID:America/Los_Angeles
LOCATION:
SUMMARY:Reinforce Discipleship Group
DESCRIPTION: The 5th/6th grade Reinforce Discipleship group will be meeting Friday\,  September 9th \,  from 6:00 – 7:30 pm in Room 9. Invite a friend and join us for a fun time of Bible study\,  Q&A\,  and games. (Dinner will be provided)
URL:https://morningstarcc.org/events/reinforce-discipleship-group/
END:VEVENT
END:VCALENDAR