BEGIN:VCALENDAR
VERSION:2.0
PRODID:-//eventon.com NONSGML v1.0//EN
BEGIN:VEVENT
UID:69e87742d2f63
DTSTAMP:20260422T002242
DTSTART:20230917T193000Z
DTEND:20230918T065000Z
TZID:America/Los_Angeles
LOCATION:
SUMMARY:Missions Prayer Meeting
DESCRIPTION: Join us Sunday\,  September 17\,  at 12:30 pm in Room 4 as we pray for our supported missionaries. Learn more about our supported ministries here. 
URL:https://morningstarcc.org/events/missions-prayer-meeting/
END:VEVENT
END:VCALENDAR