BEGIN:VCALENDAR
VERSION:2.0
PRODID:-//eventon.com NONSGML v1.0//EN
BEGIN:VEVENT
UID:69e6da0ef3161
DTSTAMP:20260420T185942
DTSTART:20230423T193000Z
DTEND:20230423T210000Z
TZID:America/Los_Angeles
LOCATION:
SUMMARY:New Believers Class
DESCRIPTION: Our next New Believers class will be starting April 23nd\,  12:30 pm &#8211; 2:00 pm in Room 9.  This is a six-week class for new believers and those wanting to refresh their knowledge of the foundations of the Christian faith. You can pick up a study guide in the church[..]
URL:https://morningstarcc.org/events/new-believers-class-2/
END:VEVENT
END:VCALENDAR