BEGIN:VCALENDAR
VERSION:2.0
PRODID:-//eventon.com NONSGML v1.0//EN
BEGIN:VEVENT
UID:69e9f06883d57
DTSTAMP:20260423T031152
DTSTART:20201225T030000Z
DTEND:20201225T040000Z
TZID:Pacific/Midway
LOCATION:Morningstar Christian Chapel - Fellowship Hall 16241 Leffingwell Rd.
SUMMARY:Christmas Eve Services
DESCRIPTION: &#8212;&nbsp; T H U R S D A Y \, &nbsp; &nbsp;D E C E M B E R&nbsp; &nbsp;2 4 T H&nbsp; &#8212; 4:00 PM&nbsp; &&nbsp; 6:00 PM Join us as we celebrate the glorious birth of our Savior on Thursday\,  December 24th&nbsp;at 4:00 pm and 6:00 pm. The Children’s[..]
URL:https://morningstarcc.org/events/christmas/
END:VEVENT
END:VCALENDAR