BEGIN:VCALENDAR
VERSION:2.0
PRODID:-//eventon.com NONSGML v1.0//EN
BEGIN:VEVENT
UID:69ece485034d1
DTSTAMP:20260425T085757
DTSTART:20211107T210000Z
DTEND:20211107T220000Z
TZID:America/Los_Angeles
LOCATION:
SUMMARY:Nursery & Children's Ministry Meeting
DESCRIPTION: If you are part of the Nursery or Children&#8217;s Ministry or are interested in serving in those ministries\,  we will be having our quarterly meeting Sunday\,  November 7th\,   at 1 pm in the Multi-Purpose Room. Pray about serving the kids and join us!
URL:https://morningstarcc.org/events/childrens-ministry-meeting/
END:VEVENT
END:VCALENDAR