BEGIN:VCALENDAR
VERSION:2.0
PRODID:-//eventon.com NONSGML v1.0//EN
BEGIN:VEVENT
UID:69e82a9bda04a
DTSTAMP:20260421T185539
DTSTART:20220924T020000Z
DTEND:20220924T040000Z
TZID:America/Los_Angeles
LOCATION:
SUMMARY:Mending Hearts Widows Ministry
DESCRIPTION: Our monthly widows ministry meets on the 4th Friday of every month. This month we will be meeting on Friday\,  September 23rd at 7:00 pm. If you recently lost your husband and would like to join with other Christian women who are walking the same path\,  Call the church office for the[..]
URL:https://morningstarcc.org/events/mending-hearts-widows-ministry/
END:VEVENT
END:VCALENDAR