BEGIN:VCALENDAR
VERSION:2.0
PRODID:-//eventon.com NONSGML v1.0//EN
BEGIN:VEVENT
UID:69e53e205b3af
DTSTAMP:20260419T134208
DTSTART:20220909T020000Z
DTEND:20220909T065000Z
TZID:America/Los_Angeles
LOCATION:
SUMMARY:Pause Night of Worship
DESCRIPTION: Take time to pause on&nbsp;Thursday\,  September 8th\,  at 7:00 pm&nbsp;in the Fellowship Hall&nbsp;for a night of praising our Lord and giving Him the honor He is due through our worship.
URL:https://morningstarcc.org/events/pause-night-of-worship/
END:VEVENT
END:VCALENDAR