BEGIN:VCALENDAR
VERSION:2.0
PRODID:-//eventon.com NONSGML v1.0//EN
BEGIN:VEVENT
UID:69ebaa15d0683
DTSTAMP:20260424T103621
DTSTART:20220313T100000Z
DTEND:20220314T070000Z
TZID:America/Los_Angeles
LOCATION:
SUMMARY:Daylight Saving Time
DESCRIPTION: Remember to set you clocks ahead one hour Sunday\,  March 13th\,  as Daylight Saving Time begins.
URL:https://morningstarcc.org/events/daylight-saving-time/
END:VEVENT
END:VCALENDAR