BEGIN:VCALENDAR
VERSION:2.0
PRODID:-//eventon.com NONSGML v1.0//EN
BEGIN:VEVENT
UID:69e5b993e4d8e
DTSTAMP:20260419T222851
DTSTART:20220417T150000Z
DTEND:20220418T065000Z
TZID:America/Los_Angeles
LOCATION:Titan Stadium 800 N. State College\, 
SUMMARY:Easter & Good Friday Services
DESCRIPTION: Mark your calendars for this year’s Easter service on Sunday\,  April 17th. We will all be gathering together at Cal State Fullerton’s Titan Stadium at&nbsp;8:00 AM&nbsp;to celebrate our Risen Lord! (Arise Café\,  The Chapel Store and the Main Sanctuary will be closed all day on Easter) Our Good Friday services[..]
URL:https://morningstarcc.org/events/easter-2/
END:VEVENT
END:VCALENDAR