BEGIN:VCALENDAR
VERSION:2.0
PRODID:-//eventon.com NONSGML v1.0//EN
BEGIN:VEVENT
UID:69ed34ccd62aa
DTSTAMP:20260425T144028
DTSTART:20220403T010000Z
DTEND:20220403T030000Z
TZID:America/Los_Angeles
LOCATION:
SUMMARY:Married Couples at the Veronese Cafe
DESCRIPTION: We invite you to join us on Saturday\,  April 2nd\,  for Coffee and a study at the Veronese Cafe in Fullerton at 6:00 pm. The coffee house is open until 10 p.m.\,  Come get to know other couples in the body of Christ. Please email if you plan to come:[..]
URL:https://morningstarcc.org/events/married-couples-at-the-veronese-cafe/
END:VEVENT
END:VCALENDAR