BEGIN:VCALENDAR
VERSION:2.0
PRODID:-//eventon.com NONSGML v1.0//EN
BEGIN:VEVENT
UID:69e51e98decef
DTSTAMP:20260419T112736
DTSTART:20231223T160000Z
DTEND:20240114T075000Z
TZID:America/Los_Angeles
LOCATION:
SUMMARY:Saturday Morning Prayer Meetings
DESCRIPTION: No Women&#8217;s Prayer on December 23 and No Saturday morning prayer on the 5th Sunday of the month. Come join us on Saturdays from 8:00am to 9:00am as we pray for the needs of those in our church\,  our community and our nation. The men meet the 1st and 3rd Saturday and women meet the 2nd and[..]
URL:https://morningstarcc.org/events/saturday-morning-prayer-meetings/
END:VEVENT
END:VCALENDAR