BEGIN:VCALENDAR
VERSION:2.0
PRODID:-//eventon.com NONSGML v1.0//EN
BEGIN:VEVENT
UID:69e9c143daad4
DTSTAMP:20260422T235043
DTSTART:20230225T170000Z
DTEND:20230226T075000Z
TZID:America/Los_Angeles
LOCATION:Morningstar Christian Chapel - Fellowship Hall 16241 Leffingwell Rd.
SUMMARY:Women's Potluck Prayer Breakfast
DESCRIPTION: Ladies\,  mark your calendar and invite some friends to join us as we gather on Saturday\,  February 25th from 9 -11:30 am in the Fellowship Hall for a morning of worship\,  Bible study\,  prayer\,  and sweet fellowship. It&#8217;s a potluck breakfast so bring your favorite dish (see suggestions on the web or flyer) and come[..]
URL:https://morningstarcc.org/events/womens-potluck-prayer-breakfast-2/
END:VEVENT
END:VCALENDAR