BEGIN:VCALENDAR
VERSION:2.0
PRODID:-//eventon.com NONSGML v1.0//EN
BEGIN:VEVENT
UID:69e536656d2c7
DTSTAMP:20260419T130909
DTSTART:20230506T140000Z
DTEND:20230507T065000Z
TZID:America/Los_Angeles
LOCATION:
SUMMARY:Junior High and High School Morning Hike
DESCRIPTION: &nbsp;The High School and Junior High youth groups will be getting together for a group hike on&nbsp;Saturday morning\,  May 6th. They will be carpooling from Morningstar Christian Chapel at 7 am\,  going to Eaton Canyon in Pasadena. We are hiking up\,  having a short study from Jesus’s Sermon on the[..]
URL:https://morningstarcc.org/events/junior-high-and-high-school-morning-hike/
END:VEVENT
END:VCALENDAR