BEGIN:VCALENDAR
VERSION:2.0
PRODID:-//eventon.com NONSGML v1.0//EN
BEGIN:VEVENT
UID:69e8a37c57a03
DTSTAMP:20260422T033124
DTSTART:20230506T150000Z
DTEND:20230507T065000Z
TZID:America/Los_Angeles
LOCATION:
SUMMARY:About Our Youth Ministry
DESCRIPTION: The 7-12th grade Morningstar Youth is a discipleship ministry that seeks to glorify God by building a biblical foundation within the students and equipping them for spiritual maturity. To accomplish this\,  we study through the entire Bible every 6 years and engage in discipleship with the students. We meet at every regular church service[..]
URL:https://morningstarcc.org/events/about-our-youth-ministry/
END:VEVENT
END:VCALENDAR