BEGIN:VCALENDAR
VERSION:2.0
PRODID:-//eventon.com NONSGML v1.0//EN
BEGIN:VEVENT
UID:69ecf7d4b024e
DTSTAMP:20260425T102020
DTSTART:20230622T180000Z
DTEND:20230624T190000Z
TZID:America/Los_Angeles
LOCATION:
SUMMARY:4th - 6th Grade Summer Camp
DESCRIPTION: Parents\,  sign up your 4th-6th Graders for camp as we go to Featherly Park in Anaheim. We’ll be leaving the church on Thursday\,  June 22nd\,  at 11:00 am and arriving back at noon on Saturday\,  June 24th. See the flyer for more information and sign up in Room 3\,  online\,  or in the Church Office during business[..]
URL:https://morningstarcc.org/events/childrens-and-jr-high-camp/
END:VEVENT
END:VCALENDAR