BEGIN:VCALENDAR
VERSION:2.0
PRODID:-//eventon.com NONSGML v1.0//EN
BEGIN:VEVENT
UID:69e786c16d3c9
DTSTAMP:20260421T071633
DTSTART:20230617T220000Z
DTEND:20230618T020000Z
TZID:America/Los_Angeles
LOCATION:
SUMMARY:K- 6th Grade Pool Day
DESCRIPTION: What: An evening full of swimming and games!Where: See flyer in room 3When: Saturday\,  June 17th from 3:00 to 7:00 pm. Dinner at 5:00 pmCost: $5 per person (including parents)Children should bring swimsuits\, towels\,  and sunscreen.Parents are invited also!Signups in Room 3 before and after services\,  online\,  or in theChurch Office[..]
URL:https://morningstarcc.org/events/k-6th-grade-pool-day-copy/
END:VEVENT
END:VCALENDAR