BEGIN:VCALENDAR
VERSION:2.0
PRODID:-//eventon.com NONSGML v1.0//EN
BEGIN:VEVENT
UID:69e57829213ac
DTSTAMP:20260419T174945
DTSTART:20230529T150000Z
DTEND:20230530T065000Z
TZID:America/Los_Angeles
LOCATION:
SUMMARY:Memorial Day
DESCRIPTION: In Observance of Memorial Day\,  Monday\,  May 29th\,  The Church Office\,  The Chapel Store\,  and the Thrift Store will be closed. Also\,  the Monday night bible study will not be meeting.
URL:https://morningstarcc.org/events/memorial-day-2/
END:VEVENT
END:VCALENDAR