BEGIN:VCALENDAR
VERSION:2.0
PRODID:-//eventon.com NONSGML v1.0//EN
BEGIN:VEVENT
UID:69ead3132c8f1
DTSTAMP:20260423T191859
DTSTART:20230922T003000Z
DTEND:20230924T030000Z
TZID:America/Los_Angeles
LOCATION:
SUMMARY:Mexico Mission Trip\,  El Hongo
DESCRIPTION: We will leave for El Hongo\,  Mexico on Thursday\, &nbsp;Thursday\,  September 21\,  at 5:30 pm&nbsp;and&nbsp;return on Saturday\,  September\,  23. &nbsp;The team will go out to support the work of Calvary Chapel El Hongo.&nbsp;Make sure you sign up early so we can get your name on the prison outreach roster. A fact[..]
URL:https://morningstarcc.org/events/mexico-mission-trip-el-hongo/
END:VEVENT
END:VCALENDAR