BEGIN:VCALENDAR
VERSION:2.0
PRODID:-//eventon.com NONSGML v1.0//EN
BEGIN:VEVENT
UID:69e518ac8ede2
DTSTAMP:20260419T110220
DTSTART:20231008T000000Z
DTEND:20231008T105000Z
TZID:Pacific/Midway
LOCATION:
SUMMARY:Raising Disciples Fall Lunch
DESCRIPTION: Morningstar Mommas will gather for a morning of fellowship and encouragement. This is a potluck brunch with a main dish provided; bring your favorite side dish. We will gather at a local whittier home offsite from Morningstar Christian Chapel. Take advantage of this opportunity to join with moms with the[..]
URL:https://morningstarcc.org/events/raising-disciples-fall-lunch/
END:VEVENT
END:VCALENDAR