BEGIN:VCALENDAR
VERSION:2.0
PRODID:-//eventon.com NONSGML v1.0//EN
BEGIN:VEVENT
UID:69e79eb79f66c
DTSTAMP:20260421T085847
DTSTART:2022022400Z
DTEND:2022022700Z
TZID:America/Los_Angeles
LOCATION:
SUMMARY:MEXICO MISSIONS TRIP - MEXICALI
DESCRIPTION: Destination:   Mexicali\,  Mexico Trip Dates:    February 24-26\,  2022 Total Cost:     $50.00 Price includes:  Transportation (caravan)\,  Breakfast\,  Lunch and Dinner Extra Cost: Personal purchases\,  any ministry material you may choose to bring\,  dinner Thursday. No refund after 2/21/2022 Sign up online @ morningstarcc.org\,  or In the Church Office during office hours:  Monday[..]
URL:https://morningstarcc.org/events/mexico-missions-trip-mexicali/
END:VEVENT
END:VCALENDAR