BEGIN:VCALENDAR
VERSION:2.0
PRODID:-//eventon.com NONSGML v1.0//EN
BEGIN:VEVENT
UID:69e5165a199ae
DTSTAMP:20260419T105226
DTSTART:20190123T190000Z
DTEND:20190123T203000Z
TZID:UTC
LOCATION:Morningstar Christian Chapel 16241 Leffingwell Rd.
SUMMARY:Wednesday Service
DESCRIPTION: Wednesday Service
URL:https://morningstarcc.org/events/wednesday-eveningservice/
END:VEVENT
END:VCALENDAR