BEGIN:VCALENDAR
VERSION:2.0
PRODID:-//eventon.com NONSGML v1.0//EN
BEGIN:VEVENT
UID:69e5efde7381e
DTSTAMP:20260420T022030
DTSTART:20211002T190000Z
DTEND:20211002T200000Z
TZID:Pacific/Midway
LOCATION:
SUMMARY:Men's Prayer Meeting
DESCRIPTION: 8:00 am // Fellowship Hall Please join us as we pray for those in need of prayer\,  and meet other godly men as we fellowship together. We will be meeting on Saturday\,  October 2nd  and Saturday\,  October 16th
URL:https://morningstarcc.org/events/mens-prayer-meeting/
END:VEVENT
END:VCALENDAR