BEGIN:VCALENDAR
VERSION:2.0
PRODID:-//eventon.com NONSGML v1.0//EN
BEGIN:VEVENT
UID:69eb2bccc3a15
DTSTAMP:20260424T013732
DTSTART:20231004T020000Z
DTEND:20231004T065000Z
TZID:America/Los_Angeles
LOCATION:Morningstar Christian Chapel - Fellowship Hall 16241 Leffingwell Rd.
SUMMARY:Christ & Cancer
DESCRIPTION: Join us for the monthly meetings for cancer patients\,  cancer survivors\,  caretakers\,  family\,  and friends as we stand together on our foundation of faith in Jesus Christ. We meet the first Tuesday of every month at 7:00 pm in the Multi-Purpose Room. Our next meeting will be Tuesday\,  October 3\,  at[..]
URL:https://morningstarcc.org/events/christ-cancer-support-group/
END:VEVENT
END:VCALENDAR