BEGIN:VCALENDAR
VERSION:2.0
PRODID:-//eventon.com NONSGML v1.0//EN
BEGIN:VEVENT
UID:69e4e8ab88a75
DTSTAMP:20260419T073731
DTSTART:20231006T013000Z
DTEND:20231006T030000Z
TZID:America/Los_Angeles
LOCATION:Morningstar Christian Chapel - Main Sanctuary 16241 Leffingwell Rd.
SUMMARY:Worship Fellowship
DESCRIPTION: W O R S H I P   F E L L O W S H I P &#8212; T H U R S D A Y \,    O C T O B  E R    5 T H &#8212; 6:30 pm // Main Sanctuary All those involved or[..]
URL:https://morningstarcc.org/events/worship-fellowship/
END:VEVENT
END:VCALENDAR