BEGIN:VCALENDAR
VERSION:2.0
PRODID:-//eventon.com NONSGML v1.0//EN
BEGIN:VEVENT
UID:69e5942299999
DTSTAMP:20260419T194906
DTSTART:20191125T080000Z
DTEND:20191129T171500Z
TZID:UTC
LOCATION:
SUMMARY:Hermosillo\,  Mexico Trip Orientation Meeting
DESCRIPTION: Christmas Shoeboxes for Hermosillo\,  Mexico We have the opportunity again this year to bless the kids of Hermosillo with Christmas gifts. Pick up an information flyer in the Foyer. Our Christmas Shoebox collection days will be on Wednesday\,  November 25th and Sunday\,  November 29th\,  in the Foyer after any of the[..]
URL:https://morningstarcc.org/events/hermosillo-mexico-trip-orientation-meeting/
END:VEVENT
END:VCALENDAR